BEGIN:VCALENDAR
VERSION:2.0
PRODID:-//Shamrock Heights - ECPv5.14.1//NONSGML v1.0//EN
CALSCALE:GREGORIAN
METHOD:PUBLISH
X-WR-CALNAME:Shamrock Heights
X-ORIGINAL-URL:https://www.shamrockheightsgolf.com
X-WR-CALDESC:Events for Shamrock Heights
BEGIN:VTIMEZONE
TZID:America/Chicago
BEGIN:DAYLIGHT
TZOFFSETFROM:-0600
TZOFFSETTO:-0500
TZNAME:CDT
DTSTART:20200308T080000
END:DAYLIGHT
BEGIN:STANDARD
TZOFFSETFROM:-0500
TZOFFSETTO:-0600
TZNAME:CST
DTSTART:20201101T070000
END:STANDARD
END:VTIMEZONE
BEGIN:VEVENT
DTSTART;TZID=America/Chicago:20200312T160000
DTEND;TZID=America/Chicago:20200312T200000
DTSTAMP:20260419T063536
CREATED:20200311T153104Z
LAST-MODIFIED:20200311T153107Z
UID:5575-1584028800-1584043200@www.shamrockheightsgolf.com
SUMMARY:Thursday Night Special
DESCRIPTION:Did somebody say Bacon? \nIt’s our Bacon Pickle Pizza Night\nThursday\, March 12th\n4 pm to 8 pm \nCome on over for fun\, food & family!
URL:https://www.shamrockheightsgolf.com/event/thursday-night-special/
LOCATION:Shamrock Heights\, N5525 Old Hwy 45\, New London\, WI\, United States
CATEGORIES:Restaurant
END:VEVENT
END:VCALENDAR