BEGIN:VCALENDAR
VERSION:2.0
PRODID:-//Shamrock Heights - ECPv5.14.1//NONSGML v1.0//EN
CALSCALE:GREGORIAN
METHOD:PUBLISH
X-WR-CALNAME:Shamrock Heights
X-ORIGINAL-URL:https://www.shamrockheightsgolf.com
X-WR-CALDESC:Events for Shamrock Heights
BEGIN:VTIMEZONE
TZID:America/Toronto
BEGIN:DAYLIGHT
TZOFFSETFROM:-0500
TZOFFSETTO:-0400
TZNAME:EDT
DTSTART:20190310T070000
END:DAYLIGHT
BEGIN:STANDARD
TZOFFSETFROM:-0400
TZOFFSETTO:-0500
TZNAME:EST
DTSTART:20191103T060000
END:STANDARD
END:VTIMEZONE
BEGIN:VEVENT
DTSTART;VALUE=DATE:20190727
DTEND;VALUE=DATE:20190728
DTSTAMP:20260419T113415
CREATED:20190416T170211Z
LAST-MODIFIED:20190423T161504Z
UID:4985-1564185600-1564271999@www.shamrockheightsgolf.com
SUMMARY:Prader-Willi Outing
DESCRIPTION:
URL:https://www.shamrockheightsgolf.com/event/prader-willi-outing/
LOCATION:Shamrock Heights\, N5525 Old Hwy 45\, New London\, WI\, United States
CATEGORIES:Golf
ATTACH;FMTTYPE=image/png:https://www.shamrockheightsgolf.com/wp-content/uploads/2019/04/2019-04-23_10-11-12.png
END:VEVENT
END:VCALENDAR