BEGIN:VCALENDAR
VERSION:2.0
PRODID:-//Shamrock Heights - ECPv5.14.1//NONSGML v1.0//EN
CALSCALE:GREGORIAN
METHOD:PUBLISH
X-WR-CALNAME:Shamrock Heights
X-ORIGINAL-URL:https://www.shamrockheightsgolf.com
X-WR-CALDESC:Events for Shamrock Heights
BEGIN:VTIMEZONE
TZID:America/Toronto
BEGIN:DAYLIGHT
TZOFFSETFROM:-0500
TZOFFSETTO:-0400
TZNAME:EDT
DTSTART:20190310T070000
END:DAYLIGHT
BEGIN:STANDARD
TZOFFSETFROM:-0400
TZOFFSETTO:-0500
TZNAME:EST
DTSTART:20191103T060000
END:STANDARD
END:VTIMEZONE
BEGIN:VEVENT
DTSTART;TZID=America/Toronto:20190512T100000
DTEND;TZID=America/Toronto:20190512T140000
DTSTAMP:20260419T100043
CREATED:20190416T165903Z
LAST-MODIFIED:20190430T194608Z
UID:4964-1557655200-1557669600@www.shamrockheightsgolf.com
SUMMARY:Mother's Day Brunch
DESCRIPTION:Menu: \n\n\n\n\nWide variety of items including broasted chicken\, ribs\, ham\, sausage & kraut\, meatballs\, all your standard breakfast items- including homemade french toast\, full dessert\, salad bar and more! $13.95 each \n\n\n\n\n\n\n\n\n\n\n\nWe invite you to enjoy Mother’s Brunch with us! \nBuffet is from 10am – 2pm \nCall to make your reservations! 920-982-9993
URL:https://www.shamrockheightsgolf.com/event/mothers-day-brunch/
LOCATION:Shamrock Heights\, N5525 Old Hwy 45\, New London\, WI\, United States
CATEGORIES:Restaurant
ATTACH;FMTTYPE=image/png:https://www.shamrockheightsgolf.com/wp-content/uploads/2019/04/2019-04-30_13-32-31.png
END:VEVENT
END:VCALENDAR