BEGIN:VCALENDAR
VERSION:2.0
PRODID:-//Shamrock Heights - ECPv5.14.1//NONSGML v1.0//EN
CALSCALE:GREGORIAN
METHOD:PUBLISH
X-WR-CALNAME:Shamrock Heights
X-ORIGINAL-URL:https://www.shamrockheightsgolf.com
X-WR-CALDESC:Events for Shamrock Heights
BEGIN:VTIMEZONE
TZID:America/Toronto
BEGIN:DAYLIGHT
TZOFFSETFROM:-0500
TZOFFSETTO:-0400
TZNAME:EDT
DTSTART:20190310T070000
END:DAYLIGHT
BEGIN:STANDARD
TZOFFSETFROM:-0400
TZOFFSETTO:-0500
TZNAME:EST
DTSTART:20191103T060000
END:STANDARD
END:VTIMEZONE
BEGIN:VEVENT
DTSTART;VALUE=DATE:20190430
DTEND;VALUE=DATE:20190501
DTSTAMP:20260419T125744
CREATED:20190416T165734Z
LAST-MODIFIED:20190416T165734Z
UID:4952-1556582400-1556668799@www.shamrockheightsgolf.com
SUMMARY:Men's League Pre-Season Warm-up
DESCRIPTION:
URL:https://www.shamrockheightsgolf.com/event/mens-league-pre-season-warm-up/
LOCATION:Shamrock Heights\, N5525 Old Hwy 45\, New London\, WI\, United States
CATEGORIES:Golf
END:VEVENT
END:VCALENDAR