BEGIN:VCALENDAR
VERSION:2.0
PRODID:-//Shamrock Heights - ECPv5.14.1//NONSGML v1.0//EN
CALSCALE:GREGORIAN
METHOD:PUBLISH
X-WR-CALNAME:Shamrock Heights
X-ORIGINAL-URL:https://www.shamrockheightsgolf.com
X-WR-CALDESC:Events for Shamrock Heights
BEGIN:VTIMEZONE
TZID:America/Chicago
BEGIN:DAYLIGHT
TZOFFSETFROM:-0600
TZOFFSETTO:-0500
TZNAME:CDT
DTSTART:20200308T080000
END:DAYLIGHT
BEGIN:STANDARD
TZOFFSETFROM:-0500
TZOFFSETTO:-0600
TZNAME:CST
DTSTART:20201101T070000
END:STANDARD
END:VTIMEZONE
BEGIN:VEVENT
DTSTART;TZID=America/Chicago:20200612T160000
DTEND;TZID=America/Chicago:20200612T210000
DTSTAMP:20260419T100406
CREATED:20200609T131729Z
LAST-MODIFIED:20200609T201042Z
UID:5901-1591977600-1591995600@www.shamrockheightsgolf.com
SUMMARY:Lobster Gnocchi
DESCRIPTION:Restaurant IS OPEN\, with that being the case\, Full Menu!\nThursdays & Fridays 11am – 9pm / Specials starting at 4pm\nCall anytime after 12pm to order your carry-out from 4-9pm!! \nFriday Fish Fry special…\nLobster Gnocchi \nFor dining-in ONLY\, sorry there will be no salad bar (due to the COVID-19)\, as a result we are replacing our salad bar with a choice of two of the following; \n\nsalad\nsoup\ncoleslaw\n\nPlease be patient with us\, this is yet another new change to our standard work flow. Hence we are doing our best to work through this crazy time and provide our best service to our amazing customers. Please be courteous of our staff and other customers. If you are feeling sick or have concerns\, please dine in at a later date.
URL:https://www.shamrockheightsgolf.com/event/lobster-tortellini/
ATTACH;FMTTYPE=image/jpeg:https://www.shamrockheightsgolf.com/wp-content/uploads/2020/06/60969479556__2BF3A1A6-9133-4860-BDFE-0FC819240BDB-scaled.jpg
END:VEVENT
END:VCALENDAR