BEGIN:VCALENDAR
VERSION:2.0
PRODID:-//Shamrock Heights - ECPv5.14.1//NONSGML v1.0//EN
CALSCALE:GREGORIAN
METHOD:PUBLISH
X-WR-CALNAME:Shamrock Heights
X-ORIGINAL-URL:https://www.shamrockheightsgolf.com
X-WR-CALDESC:Events for Shamrock Heights
BEGIN:VTIMEZONE
TZID:America/Chicago
BEGIN:DAYLIGHT
TZOFFSETFROM:-0600
TZOFFSETTO:-0500
TZNAME:CDT
DTSTART:20190310T080000
END:DAYLIGHT
BEGIN:STANDARD
TZOFFSETFROM:-0500
TZOFFSETTO:-0600
TZNAME:CST
DTSTART:20191103T070000
END:STANDARD
END:VTIMEZONE
BEGIN:VEVENT
DTSTART;TZID=America/Chicago:20191031T160000
DTEND;TZID=America/Chicago:20191031T203000
DTSTAMP:20260420T032436
CREATED:20191016T155650Z
LAST-MODIFIED:20191016T155650Z
UID:5306-1572537600-1572553800@www.shamrockheightsgolf.com
SUMMARY:Halloween Party
DESCRIPTION:Join us for a spooky good time at our Halloween Party!\nThursday\, October 31\n4 – 8:30 PM \n– Pizza & Appetizer Specials\n– Spooky Drink Specials – including Happy Hour from 5-7 PM\n– COSTUME CONTEST – 1st\, 2nd\, 3rd Place Prizes! Voting ends at 8 PM\n– Tons of Fun for all ages!
URL:https://www.shamrockheightsgolf.com/event/halloween-party/
LOCATION:Shamrock Heights\, N5525 Old Hwy 45\, New London\, WI\, United States
CATEGORIES:Restaurant
END:VEVENT
END:VCALENDAR