BEGIN:VCALENDAR
VERSION:2.0
PRODID:-//Shamrock Heights - ECPv5.14.1//NONSGML v1.0//EN
CALSCALE:GREGORIAN
METHOD:PUBLISH
X-WR-CALNAME:Shamrock Heights
X-ORIGINAL-URL:https://www.shamrockheightsgolf.com
X-WR-CALDESC:Events for Shamrock Heights
BEGIN:VTIMEZONE
TZID:America/Toronto
BEGIN:DAYLIGHT
TZOFFSETFROM:-0500
TZOFFSETTO:-0400
TZNAME:EDT
DTSTART:20190310T070000
END:DAYLIGHT
BEGIN:STANDARD
TZOFFSETFROM:-0400
TZOFFSETTO:-0500
TZNAME:EST
DTSTART:20191103T060000
END:STANDARD
END:VTIMEZONE
BEGIN:VEVENT
DTSTART;TZID=America/Toronto:20190421T100000
DTEND;TZID=America/Toronto:20190421T140000
DTSTAMP:20260419T100339
CREATED:20190416T164057Z
LAST-MODIFIED:20190416T164504Z
UID:4941-1555840800-1555855200@www.shamrockheightsgolf.com
SUMMARY:Easter Brunch Buffet
DESCRIPTION:We invite you to enjoy Easter Brunch with us! Buffet is from 10am – 2pm. Call to make your reservations! 920-982-9993
URL:https://www.shamrockheightsgolf.com/event/easter-brunch-buffet/
LOCATION:Shamrock Heights\, N5525 Old Hwy 45\, New London\, WI\, United States
CATEGORIES:Restaurant
ATTACH;FMTTYPE=image/jpeg:https://www.shamrockheightsgolf.com/wp-content/uploads/2019/04/55495108_2054793291304780_3981453628492742656_n.jpg
END:VEVENT
END:VCALENDAR