BEGIN:VCALENDAR
VERSION:2.0
PRODID:-//Shamrock Heights - ECPv5.14.1//NONSGML v1.0//EN
CALSCALE:GREGORIAN
METHOD:PUBLISH
X-WR-CALNAME:Shamrock Heights
X-ORIGINAL-URL:https://www.shamrockheightsgolf.com
X-WR-CALDESC:Events for Shamrock Heights
BEGIN:VTIMEZONE
TZID:America/Chicago
BEGIN:DAYLIGHT
TZOFFSETFROM:-0600
TZOFFSETTO:-0500
TZNAME:CDT
DTSTART:20210314T080000
END:DAYLIGHT
BEGIN:STANDARD
TZOFFSETFROM:-0500
TZOFFSETTO:-0600
TZNAME:CST
DTSTART:20211107T070000
END:STANDARD
END:VTIMEZONE
BEGIN:VEVENT
DTSTART;TZID=America/Chicago:20210204T160000
DTEND;TZID=America/Chicago:20210204T200000
DTSTAMP:20260420T040247
CREATED:20210104T194505Z
LAST-MODIFIED:20210104T195735Z
UID:6227-1612454400-1612468800@www.shamrockheightsgolf.com
SUMMARY:Bang Bang Shrimp (or Chicken) Pizza
DESCRIPTION:You haven’t tried anything until you had our Bang Bang Shrimp Pizza!!!! \nOrder it Take n’ Bake or Dine in (kitchen opens at 4pm) and stay for Happy Hour 5-7pm! \nvisit shamrockheightsgolf.com for our full menu
URL:https://www.shamrockheightsgolf.com/event/bang-bang-shrimp-or-chicken-pizza/
ATTACH;FMTTYPE=image/jpeg:https://www.shamrockheightsgolf.com/wp-content/uploads/2020/08/Bang-Bang-Shrimp-Pizza.jpg
END:VEVENT
END:VCALENDAR