BEGIN:VCALENDAR
VERSION:2.0
PRODID:-//Shamrock Heights - ECPv5.14.1//NONSGML v1.0//EN
CALSCALE:GREGORIAN
METHOD:PUBLISH
X-WR-CALNAME:Shamrock Heights
X-ORIGINAL-URL:https://www.shamrockheightsgolf.com
X-WR-CALDESC:Events for Shamrock Heights
BEGIN:VTIMEZONE
TZID:America/Chicago
BEGIN:DAYLIGHT
TZOFFSETFROM:-0600
TZOFFSETTO:-0500
TZNAME:CDT
DTSTART:20210314T080000
END:DAYLIGHT
BEGIN:STANDARD
TZOFFSETFROM:-0500
TZOFFSETTO:-0600
TZNAME:CST
DTSTART:20211107T070000
END:STANDARD
END:VTIMEZONE
BEGIN:VEVENT
DTSTART;TZID=America/Chicago:20210121T160000
DTEND;TZID=America/Chicago:20210121T200000
DTSTAMP:20260420T020916
CREATED:20210104T193456Z
LAST-MODIFIED:20210104T193456Z
UID:6213-1611244800-1611259200@www.shamrockheightsgolf.com
SUMMARY:Bacon Explosion Pizza
DESCRIPTION:Who doesn’t LOVE Bacon?\nDine In or Take n’ Bake our Bacon Explosion Pizza\n(Kitchen opens at 4pm)\nTake advantage of our Happy Hours 5pm to 7pm
URL:https://www.shamrockheightsgolf.com/event/bacon-explosion-pizza/
ATTACH;FMTTYPE=image/jpeg:https://www.shamrockheightsgolf.com/wp-content/uploads/2020/08/bacon-explosion-scaled.jpg
END:VEVENT
END:VCALENDAR