BEGIN:VCALENDAR
VERSION:2.0
PRODID:-//Shamrock Heights - ECPv5.14.1//NONSGML v1.0//EN
CALSCALE:GREGORIAN
METHOD:PUBLISH
X-WR-CALNAME:Shamrock Heights
X-ORIGINAL-URL:https://www.shamrockheightsgolf.com
X-WR-CALDESC:Events for Shamrock Heights
BEGIN:VTIMEZONE
TZID:America/Chicago
BEGIN:DAYLIGHT
TZOFFSETFROM:-0600
TZOFFSETTO:-0500
TZNAME:CDT
DTSTART:20200308T080000
END:DAYLIGHT
BEGIN:STANDARD
TZOFFSETFROM:-0500
TZOFFSETTO:-0600
TZNAME:CST
DTSTART:20201101T070000
END:STANDARD
END:VTIMEZONE
BEGIN:VEVENT
DTSTART;TZID=America/Chicago:20200507T080000
DTEND;TZID=America/Chicago:20200507T170000
DTSTAMP:20260419T081606
CREATED:20200507T155032Z
LAST-MODIFIED:20200507T165540Z
UID:5780-1588838400-1588870800@www.shamrockheightsgolf.com
SUMMARY:5/7 & 5/8 Carry-Out Specials
DESCRIPTION:Thursday Pizza: Cajun Chicken Alfredo \nFriday Fish Fry: Teriyaki Grilled Salmon \nCall in your order anytime after 12pm for Carry-out between 4-8pm
URL:https://www.shamrockheightsgolf.com/event/5-7-5-8-carry-out-specials/
ATTACH;FMTTYPE=image/jpeg:https://www.shamrockheightsgolf.com/wp-content/uploads/2020/03/Weekly-Specials.jpg
END:VEVENT
END:VCALENDAR