BEGIN:VCALENDAR
VERSION:2.0
PRODID:-//Shamrock Heights - ECPv5.14.1//NONSGML v1.0//EN
CALSCALE:GREGORIAN
METHOD:PUBLISH
X-WR-CALNAME:Shamrock Heights
X-ORIGINAL-URL:https://www.shamrockheightsgolf.com
X-WR-CALDESC:Events for Shamrock Heights
BEGIN:VTIMEZONE
TZID:America/Toronto
BEGIN:DAYLIGHT
TZOFFSETFROM:-0500
TZOFFSETTO:-0400
TZNAME:EDT
DTSTART:20190310T070000
END:DAYLIGHT
BEGIN:STANDARD
TZOFFSETFROM:-0400
TZOFFSETTO:-0500
TZNAME:EST
DTSTART:20191103T060000
END:STANDARD
END:VTIMEZONE
BEGIN:VEVENT
DTSTART;TZID=America/Toronto:20190427T100000
DTEND;TZID=America/Toronto:20190427T130000
DTSTAMP:20260419T112934
CREATED:20190416T164259Z
LAST-MODIFIED:20190416T164351Z
UID:4944-1556359200-1556370000@www.shamrockheightsgolf.com
SUMMARY:2-Day Big Cup
DESCRIPTION:3 person BIG CUP – 18 hole scramble each day. Only 1 player can be a 0-6 for an 18 hole handicap. There will be winners at each course and overall winners. Open to the first 36 teams (fills fast). \nCost: $99.00 per person (Members $74.00) – ALL INCLUSIVE ENTRY \nPrice includes: 18 holes of golf with cart at each course\, lunch buffet after golf on Sunday at Shamrock Heights\, BIG hole prizes\, skins game each day\, and CASH PURSE. The event is flighted after the first round. \nFor more information or to sign up\, call: (920) 982-9993
URL:https://www.shamrockheightsgolf.com/event/2-day-big-cup/
LOCATION:Shamrock Heights\, N5525 Old Hwy 45\, New London\, WI\, United States
CATEGORIES:Golf
ATTACH;FMTTYPE=image/jpeg:https://www.shamrockheightsgolf.com/wp-content/uploads/2019/04/56490391_2081085622008880_17662700817481728_o.jpg
END:VEVENT
END:VCALENDAR